BEGIN:VCALENDAR
VERSION:2.0
PRODID:-//Island All-Stars Main - ECPv6.15.13//NONSGML v1.0//EN
CALSCALE:GREGORIAN
METHOD:PUBLISH
X-WR-CALNAME:Island All-Stars Main
X-ORIGINAL-URL:https://main.islandcheerandtumbling.com
X-WR-CALDESC:Events for Island All-Stars Main
REFRESH-INTERVAL;VALUE=DURATION:PT1H
X-Robots-Tag:noindex
X-PUBLISHED-TTL:PT1H
BEGIN:VTIMEZONE
TZID:UTC
BEGIN:STANDARD
TZOFFSETFROM:+0000
TZOFFSETTO:+0000
TZNAME:UTC
DTSTART:20230101T000000
END:STANDARD
END:VTIMEZONE
BEGIN:VEVENT
DTSTART;VALUE=DATE:20240715
DTEND;VALUE=DATE:20240720
DTSTAMP:20260419T173857
CREATED:20240423T134623Z
LAST-MODIFIED:20240509T122929Z
UID:132-1721001600-1721433599@main.islandcheerandtumbling.com
SUMMARY:Out Of This World
DESCRIPTION:[vc_row][vc_column][vc_column_text]July 15th – 19th: 8am – 4pm[/vc_column_text][/vc_column][/vc_row]
URL:https://app.iclasspro.com/portal/islandallstars/camp-details/26?typeId=3&#038;filters=%7B%22sorting%22:%22name%22%7D#new_tab
CATEGORIES:Summer Camp
ATTACH;FMTTYPE=image/jpeg:https://main.islandcheerandtumbling.com/wp-content/uploads/sites/2/2024/04/unnamed-3.jpg
END:VEVENT
BEGIN:VEVENT
DTSTART;VALUE=DATE:20240708
DTEND;VALUE=DATE:20240713
DTSTAMP:20260419T173857
CREATED:20240423T134526Z
LAST-MODIFIED:20240509T123234Z
UID:131-1720396800-1720828799@main.islandcheerandtumbling.com
SUMMARY:Animal Planet
DESCRIPTION:[vc_row][vc_column][vc_column_text]July 8th – 12th: 8am – 4pm[/vc_column_text][/vc_column][/vc_row]
URL:https://app.iclasspro.com/portal/islandallstars/camp-details/25?typeId=3&#038;filters=%7B%22sorting%22:%22name%22%7D#new_tab
CATEGORIES:Summer Camp
ATTACH;FMTTYPE=image/jpeg:https://main.islandcheerandtumbling.com/wp-content/uploads/sites/2/2024/04/unnamed.jpg
END:VEVENT
BEGIN:VEVENT
DTSTART;VALUE=DATE:20240624
DTEND;VALUE=DATE:20240629
DTSTAMP:20260419T173857
CREATED:20240423T134423Z
LAST-MODIFIED:20240509T122843Z
UID:130-1719187200-1719619199@main.islandcheerandtumbling.com
SUMMARY:In My Summer Era
DESCRIPTION:[vc_row][vc_column][vc_column_text]June 24th – 28th: 8am – 4pm[/vc_column_text][/vc_column][/vc_row]
URL:https://app.iclasspro.com/portal/islandallstars/camp-details/24?typeId=3&#038;filters=%7B%22sorting%22:%22name%22%7D#new_tab
CATEGORIES:Summer Camp
ATTACH;FMTTYPE=image/jpeg:https://main.islandcheerandtumbling.com/wp-content/uploads/sites/2/2024/04/unnamed-4.jpg
END:VEVENT
BEGIN:VEVENT
DTSTART;VALUE=DATE:20240617
DTEND;VALUE=DATE:20240622
DTSTAMP:20260419T173857
CREATED:20240423T134258Z
LAST-MODIFIED:20240423T134309Z
UID:128-1718582400-1719014399@main.islandcheerandtumbling.com
SUMMARY:Let's Go Camping
DESCRIPTION:[vc_row][vc_column][vc_column_text]June 17th – 21st: 8am – 4pm[/vc_column_text][/vc_column][/vc_row]
URL:https://app.iclasspro.com/portal/islandallstars/camp-details/23?typeId=3&#038;filters=%7B%22sorting%22:%22name%22%7D#new_tab
CATEGORIES:Summer Camp
ATTACH;FMTTYPE=image/png:https://main.islandcheerandtumbling.com/wp-content/uploads/sites/2/2024/04/1713732682.Week_2.png
END:VEVENT
BEGIN:VEVENT
DTSTART;VALUE=DATE:20240610
DTEND;VALUE=DATE:20240615
DTSTAMP:20260419T173857
CREATED:20240423T133347Z
LAST-MODIFIED:20240423T134143Z
UID:123-1717977600-1718409599@main.islandcheerandtumbling.com
SUMMARY:Disney Week
DESCRIPTION:[vc_row][vc_column][vc_column_text]June 10th – 14th: 8am – 4pm[/vc_column_text][/vc_column][/vc_row]
URL:https://app.iclasspro.com/portal/islandallstars/camp-details/22?typeId=3&#038;filters=%7B%22sorting%22:%22name%22%7D#new_tab
CATEGORIES:Summer Camp
ATTACH;FMTTYPE=image/png:https://main.islandcheerandtumbling.com/wp-content/uploads/sites/2/2024/04/1713732621.Week_1.png
END:VEVENT
END:VCALENDAR